BEGIN:VCALENDAR
VERSION:2.0
PRODID:-//SportPlan//Event Calendar//EN
CALSCALE:GREGORIAN
BEGIN:VEVENT
UID:b23cf3c9-1b41-4987-8435-f0faa49339f8@sportplan.local
DTSTAMP:20260420T211554Z
DTSTART;VALUE=DATE:20260509
DTEND;VALUE=DATE:20260510
SUMMARY:XTERRA Croatia 2026
DESCRIPTION:XTERRA Croatia 2026 is an official amateur cross triathlon in Mali Lošinj\, Croatia on 9 May 2026. Triatlon klub Rival presents the event as part of the XTERRA off-road series in Mali Lošinj and states that XTERRA Croatia 2026 is also the Croatian national championship in cross triathlon\, giving this thin-coverage market a clear official-source participation event.
LOCATION:Mali Lošinj
URL:https://sportplan.vercel.app/it/events/xterra-croatia-2026-mali-losinj-2026-05-09
END:VEVENT
END:VCALENDAR
