BEGIN:VCALENDAR
VERSION:2.0
PRODID:-//SportPlan//Event Calendar//EN
CALSCALE:GREGORIAN
BEGIN:VEVENT
UID:04ce797c-2c3c-4a4b-be17-b99850acf896@sportplan.local
DTSTAMP:20260420T194710Z
DTSTART;VALUE=DATE:20260606
DTEND;VALUE=DATE:20260607
SUMMARY:XLI Triatlo Cidade de Peniche
DESCRIPTION:XLI Triatlo Cidade de Peniche is an official Federação de Triatlo de Portugal event in Peniche\, Portugal on 6 June 2026. The federation event page lists it as the Campeonato Nacional de Clubes de Triatlo with Campeonato Nacional Jovem and a Prova Aberta\, and publishes the official regulation plus separate course documents for the clubs race\, youth championship\, and open amateur event.
LOCATION:Peniche\, Leiria\, Portugal
URL:https://sportplan.vercel.app/it/events/xli-triatlo-cidade-de-peniche-2026-06-06
END:VEVENT
END:VCALENDAR
