BEGIN:VCALENDAR
VERSION:2.0
PRODID:-//SportPlan//Event Calendar//EN
CALSCALE:GREGORIAN
BEGIN:VEVENT
UID:a4edd62a-55c5-4f28-8f74-2dfff5c57a2e@sportplan.local
DTSTAMP:20260420T201821Z
DTSTART;VALUE=DATE:20260512
DTEND;VALUE=DATE:20260513
SUMMARY:XIV Trail de Romancos\, Alcarria Verde 17 KM
DESCRIPTION:XIV Trail de Romancos\, Alcarria Verde 17 KM se celebra el 12 de mayo de 2026 en Romancos\, Guadalajara\, Castilla-La Mancha. La prueba recorre 17 km. Ideal para participantes que quieren disfrutar del recorrido\, el ambiente del evento y una jornada activa.
LOCATION:Romancos\, Guadalajara\, Castilla-La Mancha
URL:https://sportplan.vercel.app/it/events/xiv-trail-de-romancos-alcarria-verde-17-km-romancos-2026-05-12-17k
END:VEVENT
END:VCALENDAR
