BEGIN:VCALENDAR
VERSION:2.0
PRODID:-//SportPlan//Event Calendar//EN
CALSCALE:GREGORIAN
BEGIN:VEVENT
UID:5d1597ec-39cc-4ac6-af6b-29454ac9fff8@sportplan.local
DTSTAMP:20260420T200847Z
DTSTART;VALUE=DATE:20260427
DTEND;VALUE=DATE:20260428
SUMMARY:XIII Cresta Sierra Carbonera 2025
DESCRIPTION:XIII Cresta Sierra Carbonera 2025 se celebra el 27 de abril de 2026 en La Línea de la Concepción\, Cádiz\, Andalucía. Es una gran cita para corredores que buscan una experiencia bien organizada y un ambiente competitivo en un entorno destacado.
LOCATION:La Línea de la Concepción\, Cádiz\, Andalucía
URL:https://sportplan.vercel.app/it/events/xiii-cresta-sierra-carbonera-2025-la-linea-de-la-concepcion-2026-04-27
END:VEVENT
END:VCALENDAR
