BEGIN:VCALENDAR
VERSION:2.0
PRODID:-//SportPlan//Event Calendar//EN
CALSCALE:GREGORIAN
BEGIN:VEVENT
UID:a561afc2-9bbc-4b42-b718-fbf88c6747d0@sportplan.local
DTSTAMP:20260420T201650Z
DTSTART;VALUE=DATE:20261003
DTEND;VALUE=DATE:20261004
SUMMARY:XIII Cabra Trail
DESCRIPTION:XIII Cabra Trail se celebra en Puntallana\, Santa Cruz de Tenerife\, Canarias el 3 de octubre de 2026\, ofreciendo a los corredores una ocasión ideal para disfrutar de un ambiente competitivo y bien organizado en ES. La distancia anunciada es de 21 km\, una propuesta atractiva para corredores que buscan un reto claro y una jornada especial. Es una prueba pensada para vivir una jornada deportiva motivadora\, tanto para atletas experimentados como para participantes entusiastas.
LOCATION:Puntallana\, Santa Cruz de Tenerife\, Canarias
URL:https://sportplan.vercel.app/it/events/xiii-cabra-trail-puntallana-2026-10-03-21k
END:VEVENT
END:VCALENDAR
