BEGIN:VCALENDAR
VERSION:2.0
PRODID:-//SportPlan//Event Calendar//EN
CALSCALE:GREGORIAN
BEGIN:VEVENT
UID:21e697c0-5cef-483c-8fa4-cc84364746a9@sportplan.local
DTSTAMP:20260420T194542Z
DTSTART;VALUE=DATE:20260918
DTEND;VALUE=DATE:20260921
SUMMARY:X-WATERS Nuclear 2026
DESCRIPTION:X-WATERS Nuclear 2026 is an official amateur open-water swimming festival in Desnogorsk\, Smolensk Oblast\, Russia. The official event page lists 18 to 20 September 2026 and offers public-entry races including night swim\, 500 m\, 1 km\, 1 mile\, 3 km\, 5 km\, 10 km and children’s formats.
LOCATION:Desnogorsk
URL:https://sportplan.vercel.app/it/events/x-waters-nuclear-2026-2026-09-18
END:VEVENT
END:VCALENDAR
