BEGIN:VCALENDAR
VERSION:2.0
PRODID:-//SportPlan//Event Calendar//EN
CALSCALE:GREGORIAN
BEGIN:VEVENT
UID:e1a359eb-6ce3-4b60-82d3-380a0f28b250@sportplan.local
DTSTAMP:20260420T211336Z
DTSTART;VALUE=DATE:20260927
DTEND;VALUE=DATE:20260928
SUMMARY:X-WATERS Montenegro 2026
DESCRIPTION:X-WATERS Montenegro 2026 is an open-water swimming event in Kotor Bay\, Montenegro. The official organizer page places the event around Risan and Perast in the Bay of Kotor\, with amateur participation options including 500 m\, night 750 m\, 1 mile\, 4.5 km\, and 7 km swims. The official agenda lists race-week activity on 26-27 September 2026\, with the main public swim program on Sunday 27 September.
LOCATION:Risan\, Kotor Bay
URL:https://sportplan.vercel.app/it/events/x-waters-montenegro-2026-2026-09-27
END:VEVENT
END:VCALENDAR
