BEGIN:VCALENDAR
VERSION:2.0
PRODID:-//SportPlan//Event Calendar//EN
CALSCALE:GREGORIAN
BEGIN:VEVENT
UID:57839511-7225-45d4-a64c-29c4badac709@sportplan.local
DTSTAMP:20260420T235734Z
DTSTART;VALUE=DATE:20260927
DTEND;VALUE=DATE:20260928
SUMMARY:Wörthersee Marathon
DESCRIPTION:Wörthersee Marathon findet am 27 September 2026 in Austria statt und bietet eine sportliche Veranstaltung mit motivierender Atmosphäre und guter Organisation. Das Event ist ideal\, um die Umgebung zu genießen\, gemeinsam mit anderen Teilnehmenden unterwegs zu sein und vom Start bis ins Ziel Rennstimmung zu erleben.
LOCATION:Austria
URL:https://sportplan.vercel.app/it/events/worthersee-marathon-2026-09-27
END:VEVENT
END:VCALENDAR
