BEGIN:VCALENDAR
VERSION:2.0
PRODID:-//SportPlan//Event Calendar//EN
CALSCALE:GREGORIAN
BEGIN:VEVENT
UID:ff2851c9-78b8-4745-89c1-bce30122194e@sportplan.local
DTSTAMP:20260421T012435Z
DTSTART;VALUE=DATE:20260809
DTEND;VALUE=DATE:20260810
SUMMARY:Woodbourne Half Marathon
DESCRIPTION:Woodbourne Half Marathon is scheduled for August 9\, 2026 in Woodbourne. It offers a great opportunity to enjoy a well-organized sporting event with a strong atmosphere and an engaging course. Its accessible format and attractive setting make it a solid option for a wide range of participants.
LOCATION:Woodbourne
URL:https://sportplan.vercel.app/it/events/woodbourne-half-marathon-woodbourne-2026-08-09
END:VEVENT
END:VCALENDAR
