BEGIN:VCALENDAR
VERSION:2.0
PRODID:-//SportPlan//Event Calendar//EN
CALSCALE:GREGORIAN
BEGIN:VEVENT
UID:88b962b4-a5de-40b9-b193-9651572aeb1f@sportplan.local
DTSTAMP:20260420T201628Z
DTSTART;VALUE=DATE:20260510
DTEND;VALUE=DATE:20260511
SUMMARY:Wings For Life World Run - Vienna
DESCRIPTION:Wings For Life World Run - Vienna findet am 10. Mai 2026 in Viena statt und bietet eine motivierende Wettkampfatmosphäre für Laufbegeisterte. Ob persönliche Bestzeit oder einfach Freude an der Strecke – diese Veranstaltung verspricht einen starken Renntag in Viena.
LOCATION:Viena
URL:https://sportplan.vercel.app/it/events/wings-for-life-world-run-vienna-viena-2026-05-10
END:VEVENT
END:VCALENDAR
