BEGIN:VCALENDAR
VERSION:2.0
PRODID:-//SportPlan//Event Calendar//EN
CALSCALE:GREGORIAN
BEGIN:VEVENT
UID:72e97688-904a-4516-b359-fa2131799957@sportplan.local
DTSTAMP:20260420T194922Z
DTSTART;VALUE=DATE:20260510
DTEND;VALUE=DATE:20260511
SUMMARY:Wings for Life World Run Niederaula 2026
DESCRIPTION:Wings for Life World Run Niederaula 2026 is an official amateur participation app run scheduled for 10 May 2026 in Niederaula\, Germany. The official event page says runners and wheelchair participants in Germany can join together in Niederaula on a flat paved route along the Aula cycle path between Niederaula and Kleba\, racing until the Virtual Catcher Car catches them. The page also states that 100% of entry fees and donations go directly to spinal cord research projects.
LOCATION:Niederaula
URL:https://sportplan.vercel.app/it/events/wings-for-life-world-run-niederaula-2026-05-10
END:VEVENT
END:VCALENDAR
