BEGIN:VCALENDAR
VERSION:2.0
PRODID:-//SportPlan//Event Calendar//EN
CALSCALE:GREGORIAN
BEGIN:VEVENT
UID:a9e2960a-5237-4edc-98b9-161c2668ec24@sportplan.local
DTSTAMP:20260420T195028Z
DTSTART;VALUE=DATE:20260502
DTEND;VALUE=DATE:20260503
SUMMARY:Wilsons Prom 100
DESCRIPTION:
LOCATION:Wilsons Promontory National Park
URL:https://sportplan.vercel.app/it/events/wilsons-prom-100-wilsons-promontory-national-park-2026-05-02
END:VEVENT
END:VCALENDAR
