BEGIN:VCALENDAR
VERSION:2.0
PRODID:-//SportPlan//Event Calendar//EN
CALSCALE:GREGORIAN
BEGIN:VEVENT
UID:50d1d33f-308b-4bf0-9215-fc11dc5ac735@sportplan.local
DTSTAMP:20260420T195227Z
DTSTART;VALUE=DATE:20260502
DTEND;VALUE=DATE:20260503
SUMMARY:Warehouse 660 Trifahl (Tri for a Healthy Life)
DESCRIPTION:
LOCATION:Kirksville
URL:https://sportplan.vercel.app/it/events/warehouse-660-trifahl-tri-for-a-healthy-life-kirksville-2026-05-02
END:VEVENT
END:VCALENDAR
