BEGIN:VCALENDAR
VERSION:2.0
PRODID:-//SportPlan//Event Calendar//EN
CALSCALE:GREGORIAN
BEGIN:VEVENT
UID:279fcada-dbc9-4878-bd90-2822b3fa4383@sportplan.local
DTSTAMP:20260420T181633Z
DTSTART;VALUE=DATE:20260816
DTEND;VALUE=DATE:20260817
SUMMARY:Vršački Challenge Aquathlon 2026
DESCRIPTION:Vršački Challenge Aquathlon 2026 is an official Serbian Triathlon Federation aquathlon in Vršac\, Serbia on 16 August 2026. The federation calendar publishes the date\, venue\, image\, and organizer TK Achilles with direct contact details\, making it a clean federation-first amateur participation event record.
LOCATION:Vršac
URL:https://sportplan.vercel.app/it/events/vrsacki-challenge-aquathlon-vrsac-2026-08-16
END:VEVENT
END:VCALENDAR
