BEGIN:VCALENDAR
VERSION:2.0
PRODID:-//SportPlan//Event Calendar//EN
CALSCALE:GREGORIAN
BEGIN:VEVENT
UID:b2ff9731-9e6d-4339-969c-f6c460da5cf3@sportplan.local
DTSTAMP:20260420T194616Z
DTSTART;VALUE=DATE:20260809
DTEND;VALUE=DATE:20260810
SUMMARY:Voltaren City2Surf
DESCRIPTION:Official event site validated via web_fetch.
LOCATION:Sydney\, NSW\, Australia
URL:https://sportplan.vercel.app/it/events/voltaren-city2surf-2026-08-09
END:VEVENT
END:VCALENDAR
