BEGIN:VCALENDAR
VERSION:2.0
PRODID:-//SportPlan//Event Calendar//EN
CALSCALE:GREGORIAN
BEGIN:VEVENT
UID:b97d854e-9087-4c06-a6ea-5ab32f1b9398@sportplan.local
DTSTAMP:20260420T201821Z
DTSTART;VALUE=DATE:20260721
DTEND;VALUE=DATE:20260722
SUMMARY:Volta a Peu Serra d'En Galceran
DESCRIPTION:Volta a Peu Serra d'En Galceran se celebra en Serra d´en Galceran\, Castelló\, Comunidad Valenciana el 21 de julio de 2026\, reuniendo a corredores en un entorno atractivo y con muy buen ambiente. La prueba ofrece con unos 19 km de recorrido\, bien señalizados y con gran ambiente de carrera\, por lo que es una excelente opción tanto para quienes buscan rendir como para quienes quieren disfrutar de la experiencia.
LOCATION:Serra d´en Galceran\, Castelló\, Comunidad Valenciana
URL:https://sportplan.vercel.app/it/events/volta-a-peu-serra-d-en-galceran-serra-d-en-galceran-2026-07-21-19k
END:VEVENT
END:VCALENDAR
