BEGIN:VCALENDAR
VERSION:2.0
PRODID:-//SportPlan//Event Calendar//EN
CALSCALE:GREGORIAN
BEGIN:VEVENT
UID:9f2226dd-2dde-4157-b555-bfa6a0a35c27@sportplan.local
DTSTAMP:20260420T211356Z
DTSTART;VALUE=DATE:20260913
DTEND;VALUE=DATE:20260914
SUMMARY:Volksbank Münster Marathon
DESCRIPTION:discovered via World's Marathons sitemap and validated on direct event page\; Tier 2 underrepresented-country rotation (DE)
LOCATION:Münster\, Germany
URL:https://sportplan.vercel.app/it/events/volksbank-munster-marathon-2026-09-13
END:VEVENT
END:VCALENDAR
