BEGIN:VCALENDAR
VERSION:2.0
PRODID:-//SportPlan//Event Calendar//EN
CALSCALE:GREGORIAN
BEGIN:VEVENT
UID:eaa1f70f-8951-40f2-84de-996f1d15bbe5@sportplan.local
DTSTAMP:20260420T194511Z
DTSTART;VALUE=DATE:20260524
DTEND;VALUE=DATE:20260525
SUMMARY:Vogalonga 2026
DESCRIPTION:Vogalonga 2026 is the official 50th edition of Venice's historic recreational and amateur regatta\, taking place on 24 May 2026 over about 30 kilometres in the Venice Lagoon. The official event rules describe it as a non-competitive event with online registration\, open participation across rowing boats\, and a route through the San Marco Basin\, lagoon islands\, Murano\, Cannaregio and the Grand Canal to Punta della Dogana.
LOCATION:Venice
URL:https://sportplan.vercel.app/it/events/vogalonga-2026-2026-05-24
END:VEVENT
END:VCALENDAR
