BEGIN:VCALENDAR
VERSION:2.0
PRODID:-//SportPlan//Event Calendar//EN
CALSCALE:GREGORIAN
BEGIN:VEVENT
UID:69f425bb-838a-42d6-aa72-1f1367264e18@sportplan.local
DTSTAMP:20260420T200454Z
DTSTART;VALUE=DATE:20260524
DTEND;VALUE=DATE:20260525
SUMMARY:Vitality London 10K 2026
DESCRIPTION:Legacy row repaired to the canonical official London Marathon Events page for the Vitality London 10\,000. The official event is listed as a central London 10K with landmark views and a Buckingham Palace finish.
LOCATION:London\, England
URL:https://sportplan.vercel.app/it/events/vitality-london-10k-2026-london-2026-05-24
END:VEVENT
END:VCALENDAR
