BEGIN:VCALENDAR
VERSION:2.0
PRODID:-//SportPlan//Event Calendar//EN
CALSCALE:GREGORIAN
BEGIN:VEVENT
UID:5c71beb5-4a30-409a-9730-0a3894de3f0b@sportplan.local
DTSTAMP:20260420T195023Z
DTSTART;VALUE=DATE:20260505
DTEND;VALUE=DATE:20260506
SUMMARY:Via Castrum - K-Minada 12K
DESCRIPTION:Via Castrum - K-Minada 12K se celebra el 5 mayo 2026 en Santa Eulàlia de Puig-oriol\, Barcelona\, Cataluña\, ofreciendo una cita ideal para participantes que buscan una experiencia bien organizada y con ambiente deportivo. El evento propone un recorrido con una distancia aproximada de 12 km\, pensado para disfrutar del entorno\, mantener un buen ritmo y compartir la jornada con otros asistentes.
LOCATION:Santa Eulàlia de Puig-oriol\, Barcelona\, Cataluña
URL:https://sportplan.vercel.app/it/events/via-castrum-k-minada-12k-santa-eulalia-de-puig-oriol-2026-05-05-12k
END:VEVENT
END:VCALENDAR
