BEGIN:VCALENDAR
VERSION:2.0
PRODID:-//SportPlan//Event Calendar//EN
CALSCALE:GREGORIAN
BEGIN:VEVENT
UID:9bea853f-9358-410d-8a92-cfac90ad8173@sportplan.local
DTSTAMP:20260420T181748Z
DTSTART;VALUE=DATE:20260525
DTEND;VALUE=DATE:20260526
SUMMARY:Vertical Prois
DESCRIPTION:Vertical Prois se celebrará el 25 de mayo de 2026 en Tijarafe - La Palma\, Tenerife\, Canarias. Es una cita ideal para quienes buscan disfrutar del ambiente del evento y vivir una experiencia deportiva bien organizada\, con un recorrido aproximado de 4 km. Perfecto tanto para participantes habituales como para quienes quieren sumar un nuevo reto al calendario.
LOCATION:Tijarafe - La Palma\, Tenerife\, Canarias
URL:https://sportplan.vercel.app/it/events/vertical-prois-tijarafe-la-palma-2026-05-25-3-5k
END:VEVENT
END:VCALENDAR
