BEGIN:VCALENDAR
VERSION:2.0
PRODID:-//SportPlan//Event Calendar//EN
CALSCALE:GREGORIAN
BEGIN:VEVENT
UID:0df42b73-3eff-4731-90e9-821769b1d3e6@sportplan.local
DTSTAMP:20260420T211620Z
DTSTART;VALUE=DATE:20260719
DTEND;VALUE=DATE:20260720
SUMMARY:Ventspils triatlons\, LČ70\,3\, LK posms\, stafetes un Aquabike (1\,9+90)
DESCRIPTION:Ventspils triatlons\, LČ70\,3\, LK posms\, stafetes un Aquabike (1\,9+90) is listed on the official Latvian Triathlon Federation calendar for 2026-07-19 in Ventspils. The federation tournament detail page confirms the event date\, host venue\, and amateur participation format.
LOCATION:Ventspils\, Latvia
URL:https://sportplan.vercel.app/it/events/ventspils-triatlons-lc70-3-lk-posms-stafetes-un-aquabike-1-9-90-2026-07-19
END:VEVENT
END:VCALENDAR
