BEGIN:VCALENDAR
VERSION:2.0
PRODID:-//SportPlan//Event Calendar//EN
CALSCALE:GREGORIAN
BEGIN:VEVENT
UID:e5145811-d761-4058-9560-7d449b0b3fa0@sportplan.local
DTSTAMP:20260420T211349Z
DTSTART;VALUE=DATE:20260729
DTEND;VALUE=DATE:20260730
SUMMARY:Ventspils Tautas Triatlons\, 2.posms
DESCRIPTION:Ventspils Tautas Triatlons\, 2.posms is an official Latvian Triathlon Federation grassroots triathlon on 29 July 2026 at Bušnieku ezera peldvieta in Ventspils. The official tournament regulations say any interested participant may enter\, the event is free of charge\, and the second stage uses about 0.2 km swim\, 8.3 to 12.45 km bike\, and 1.25 to 2.5 km run options.
LOCATION:Bušnieku ezera peldvieta\, Ventspils\, Latvia
URL:https://sportplan.vercel.app/it/events/ventspils-tautas-triatlons-2-posms-2026-07-29
END:VEVENT
END:VCALENDAR
