BEGIN:VCALENDAR
VERSION:2.0
PRODID:-//SportPlan//Event Calendar//EN
CALSCALE:GREGORIAN
BEGIN:VEVENT
UID:fc5a22b0-50f3-40f8-a418-07907592db4a@sportplan.local
DTSTAMP:20260421T012142Z
DTSTART;VALUE=DATE:20270302
DTEND;VALUE=DATE:20270303
SUMMARY:Vasaloppet 45 2027
DESCRIPTION:Vasaloppet 45 is a 45 km classic-technique public ski race from Oxberg to Mora during Vasaloppet’s winter week. The official organizer page lists the 2027 edition on 2 March 2027 and presents it as a seeding race for Vasaloppet with amateur participation open from the year athletes turn 13.
LOCATION:Mora\, Dalarna County\, Sweden
URL:https://sportplan.vercel.app/it/events/vasaloppet-45-2027-mora-2027-03-02
END:VEVENT
END:VCALENDAR
