BEGIN:VCALENDAR
VERSION:2.0
PRODID:-//SportPlan//Event Calendar//EN
CALSCALE:GREGORIAN
BEGIN:VEVENT
UID:3f6ed7ee-a120-45cd-93b1-ed3deed59091@sportplan.local
DTSTAMP:20260420T223755Z
DTSTART;VALUE=DATE:20270226
DTEND;VALUE=DATE:20270227
SUMMARY:Vasaloppet 30 2027
DESCRIPTION:Vasaloppet 30 is Vasaloppet’s accessible 30 km classic-technique race from Oxberg to Mora. The official organizer page lists the 2027 edition on 26 February 2027 and describes it as the race for everyone\, welcoming families\, friends\, young and old from the year they turn 11.
LOCATION:Mora\, Dalarna County\, Sweden
URL:https://sportplan.vercel.app/it/events/vasaloppet-30-2027-mora-2027-02-26
END:VEVENT
END:VCALENDAR
