BEGIN:VCALENDAR
VERSION:2.0
PRODID:-//SportPlan//Event Calendar//EN
CALSCALE:GREGORIAN
BEGIN:VEVENT
UID:34c39997-3948-4cdd-90d9-16bea63b6c33@sportplan.local
DTSTAMP:20260421T011759Z
DTSTART;VALUE=DATE:20270306
DTEND;VALUE=DATE:20270307
SUMMARY:Vasaloppet 10 2027
DESCRIPTION:Vasaloppet 10 is an official entry-level cross-country ski race during Vasaloppet's winter week. The official Vasaloppet page lists the 2027 event on 6 March 2027 as a 9 km freestyle race from Eldris to the finish in Mora\, open to public participation from age 8.
LOCATION:Eldris to Mora\, Dalarna County\, Sweden
URL:https://sportplan.vercel.app/it/events/vasaloppet-10-2027
END:VEVENT
END:VCALENDAR
