BEGIN:VCALENDAR
VERSION:2.0
PRODID:-//SportPlan//Event Calendar//EN
CALSCALE:GREGORIAN
BEGIN:VEVENT
UID:81442882-779e-4861-b7b5-28d1b806afda@sportplan.local
DTSTAMP:20260420T200530Z
DTSTART;VALUE=DATE:20260517
DTEND;VALUE=DATE:20260518
SUMMARY:Valeranica Running 10K
DESCRIPTION:Valeranica Running 10K se celebrará el 17 mayo 2026 en Berlanga de Duero\, Soria\, Castilla y León\, reuniendo a corredores en un entorno ideal para disfrutar de la jornada. Con una distancia de 10 km\, la prueba combina esfuerzo\, ritmo y una experiencia pensada tanto para competir como para vivir el ambiente del evento.
LOCATION:Berlanga de Duero\, Soria\, Castilla y León
URL:https://sportplan.vercel.app/it/events/valeranica-running-10k-berlanga-de-duero-2026-05-17-10k
END:VEVENT
END:VCALENDAR
