BEGIN:VCALENDAR
VERSION:2.0
PRODID:-//SportPlan//Event Calendar//EN
CALSCALE:GREGORIAN
BEGIN:VEVENT
UID:4484515f-27d6-48f2-90f8-ad7e3da6bce1@sportplan.local
DTSTAMP:20260420T182416Z
DTSTART;VALUE=DATE:20260710
DTEND;VALUE=DATE:20260712
SUMMARY:UTMB Val d'Aran By UTMB 105K 2026
DESCRIPTION:UTMB Val d'Aran By UTMB 105K 2026 se celebrará el 10 de julio de 2026 en Vielha\, Lleida. Es una cita ideal para quienes buscan una experiencia bien organizada con un recorrido de 105 km y un ambiente deportivo atractivo. Participar en esta prueba es una gran oportunidad para disfrutar del recorrido\, marcarse un objetivo y vivir el evento junto a otros corredores.
LOCATION:Vielha\, Lleida
URL:https://sportplan.vercel.app/it/events/utmb-val-d-aran-by-utmb-105k-2026-vielha-2026-07-10
END:VEVENT
END:VCALENDAR
