BEGIN:VCALENDAR
VERSION:2.0
PRODID:-//SportPlan//Event Calendar//EN
CALSCALE:GREGORIAN
BEGIN:VEVENT
UID:d8d2c1ed-254f-49d6-81ea-997153b625da@sportplan.local
DTSTAMP:20260420T181620Z
DTSTART;VALUE=DATE:20260612
DTEND;VALUE=DATE:20260613
SUMMARY:UTMB Lake Toba
DESCRIPTION:UTMB World Series Asia\; June 12-14\, 2026\; trail running Indonesia\; discovered via UTMB World races listing
LOCATION:Lake Toba\, Sumatra\, Indonesia
URL:https://sportplan.vercel.app/it/events/utmb-lake-toba-2026-06-12
END:VEVENT
END:VCALENDAR
