BEGIN:VCALENDAR
VERSION:2.0
PRODID:-//SportPlan//Event Calendar//EN
CALSCALE:GREGORIAN
BEGIN:VEVENT
UID:920a1794-eb8d-4cfd-9389-3a76fa8f0d5e@sportplan.local
DTSTAMP:20260420T195044Z
DTSTART;VALUE=DATE:20260502
DTEND;VALUE=DATE:20260503
SUMMARY:Utg – Ultra Trilhos da Gardunha
DESCRIPTION:Utg – Ultra Trilhos da Gardunha acontece em 02/05/2026\, em Louriçal do Campo\, PT\, com uma distância oficial definida pela organização. É uma ótima oportunidade para aproveitar o ambiente do evento\, assumir um desafio esportivo e viver um dia ativo em um cenário especial.
LOCATION:Louriçal do Campo
URL:https://sportplan.vercel.app/it/events/utg-ultra-trilhos-da-gardunha-lourical-do-campo-2026-05-02
END:VEVENT
END:VCALENDAR
