BEGIN:VCALENDAR
VERSION:2.0
PRODID:-//SportPlan//Event Calendar//EN
CALSCALE:GREGORIAN
BEGIN:VEVENT
UID:bec4b266-4279-4bee-b91d-bd360bb85ff0@sportplan.local
DTSTAMP:20260420T195038Z
DTSTART;VALUE=DATE:20260515
DTEND;VALUE=DATE:20260518
SUMMARY:Uta Ultra-Trail Australia 100K 2026
DESCRIPTION:
LOCATION:Katoomba\, New South Wales
URL:https://sportplan.vercel.app/it/events/uta-ultra-trail-australia-100k-2026-katoomba-2026-05-15
END:VEVENT
END:VCALENDAR
