BEGIN:VCALENDAR
VERSION:2.0
PRODID:-//SportPlan//Event Calendar//EN
CALSCALE:GREGORIAN
BEGIN:VEVENT
UID:0b27336f-f464-4e73-bbda-83bee186950a@sportplan.local
DTSTAMP:20260420T223648Z
DTSTART;VALUE=DATE:20270228
DTEND;VALUE=DATE:20270301
SUMMARY:Ungdomsvasan 2027
DESCRIPTION:Ungdomsvasan is Vasaloppet’s official youth cross-country ski race for ages 11 to 16\, open to recreational as well as competitive participants. The official event page lists the 2027 edition on 28 February 2027 with 9 km and 19 km classic-technique options finishing in Mora.
LOCATION:Mora\, Dalarna County\, Sweden
URL:https://sportplan.vercel.app/it/events/ungdomsvasan-2027-mora-2027-02-28
END:VEVENT
END:VCALENDAR
