BEGIN:VCALENDAR
VERSION:2.0
PRODID:-//SportPlan//Event Calendar//EN
CALSCALE:GREGORIAN
BEGIN:VEVENT
UID:6e58f6f7-8e10-4afb-85c9-be5122dfeb95@sportplan.local
DTSTAMP:20260420T231402Z
DTSTART;VALUE=DATE:20260717
DTEND;VALUE=DATE:20260720
SUMMARY:Ultrariège
DESCRIPTION:Ultrariège se déroule à Ax-les-Thermes le 17 juillet 2026\, en rassemblant les coureurs dans un cadre agréable et une belle ambiance sportive. L'épreuve propose avec un parcours bien balisé et une vraie ambiance de course\, ce qui en fait un excellent choix aussi bien pour se challenger que pour profiter pleinement de la journée.
LOCATION:Ax-les-Thermes
URL:https://sportplan.vercel.app/it/events/ultrariege-ax-les-thermes-2026-07-17
END:VEVENT
END:VCALENDAR
