BEGIN:VCALENDAR
VERSION:2.0
PRODID:-//SportPlan//Event Calendar//EN
CALSCALE:GREGORIAN
BEGIN:VEVENT
UID:76325aee-ca67-430d-80f8-4d8084849bea@sportplan.local
DTSTAMP:20260420T212153Z
DTSTART;VALUE=DATE:20261101
DTEND;VALUE=DATE:20261102
SUMMARY:Ultramaratón Costa de Almería - Maratón
DESCRIPTION:Ultramaratón Costa de Almería - Maratón se celebrará el 2026-11-01 en Almería\, Almería\, Andalucía. El recorrido cubre aproximadamente 43 km\, ofreciendo una cita atractiva tanto para participantes que buscan un nuevo reto como para quienes quieren disfrutar del ambiente del evento. Ideal para sumar una nueva experiencia al calendario y disfrutar de una jornada activa en un entorno especial.
LOCATION:Almería\, Almería\, Andalucía
URL:https://sportplan.vercel.app/it/events/ultramaraton-costa-de-almeria-maraton-almeria-2026-11-01-43k
END:VEVENT
END:VCALENDAR
