BEGIN:VCALENDAR
VERSION:2.0
PRODID:-//SportPlan//Event Calendar//EN
CALSCALE:GREGORIAN
BEGIN:VEVENT
UID:54122309-fe1b-4dc8-9a89-5041b466b483@sportplan.local
DTSTAMP:20260420T194917Z
DTSTART;VALUE=DATE:20260509
DTEND;VALUE=DATE:20260510
SUMMARY:Ultraman Australia
DESCRIPTION:
LOCATION:Noosa Heads
URL:https://sportplan.vercel.app/it/events/ultraman-australia-noosa-heads-2026-05-09
END:VEVENT
END:VCALENDAR
