BEGIN:VCALENDAR
VERSION:2.0
PRODID:-//SportPlan//Event Calendar//EN
CALSCALE:GREGORIAN
BEGIN:VEVENT
UID:0745aeb3-ab9d-448f-aaf3-bb9de5b345b3@sportplan.local
DTSTAMP:20260420T211508Z
DTSTART;VALUE=DATE:20261031
DTEND;VALUE=DATE:20261102
SUMMARY:Ultra X Madeira
DESCRIPTION:Ultra X Madeira acontece em 31 de outubro de 2026\, em Funchal. É uma boa opção para quem quer aproveitar o evento ao vivo e organizar o dia com antecedência. Vale a pena confirmar acessos\, horários e estrutura do local antes de sair.
LOCATION:Funchal
URL:https://sportplan.vercel.app/it/events/ultra-x-madeira-funchal-2026-10-31
END:VEVENT
END:VCALENDAR
