BEGIN:VCALENDAR
VERSION:2.0
PRODID:-//SportPlan//Event Calendar//EN
CALSCALE:GREGORIAN
BEGIN:VEVENT
UID:29d8e98d-1b93-4052-bf51-d3186c33ef6b@sportplan.local
DTSTAMP:20260420T234856Z
DTSTART;VALUE=DATE:20261114
DTEND;VALUE=DATE:20261115
SUMMARY:Ultra Trail Sinai 100K 2026
DESCRIPTION:
LOCATION:Dahab\, South Sinai
URL:https://sportplan.vercel.app/it/events/ultra-trail-sinai-100k-2026-dahab-2026-11-14
END:VEVENT
END:VCALENDAR
