BEGIN:VCALENDAR
VERSION:2.0
PRODID:-//SportPlan//Event Calendar//EN
CALSCALE:GREGORIAN
BEGIN:VEVENT
UID:b3ea5bf2-d95a-494d-b73b-be82cdd1b6d1@sportplan.local
DTSTAMP:20260420T201149Z
DTSTART;VALUE=DATE:20260901
DTEND;VALUE=DATE:20260902
SUMMARY:Ultra Trail Picos de la Demanda- Ezcaray Carrera Media
DESCRIPTION:Ultra Trail Picos de la Demanda- Ezcaray Carrera Media se celebrará el 1 de septiembre de 2026 en Ezcaray\, La Rioja\, La Rioja. Es una buena cita para participantes y acompañantes que buscan un ambiente activo y bien organizado. La distancia anunciada es de 45 km.
LOCATION:Ezcaray\, La Rioja\, La Rioja
URL:https://sportplan.vercel.app/it/events/ultra-trail-picos-de-la-demanda-ezcaray-carrera-media-ezcaray-2026-09-01-45k
END:VEVENT
END:VCALENDAR
