BEGIN:VCALENDAR
VERSION:2.0
PRODID:-//SportPlan//Event Calendar//EN
CALSCALE:GREGORIAN
BEGIN:VEVENT
UID:ef88f72d-f906-44c1-83ac-4107889ece36@sportplan.local
DTSTAMP:20260420T201802Z
DTSTART;VALUE=DATE:20261106
DTEND;VALUE=DATE:20261109
SUMMARY:Ultra-Trail Kosciuszko By UTMB 100K
DESCRIPTION:Ultra-Trail Kosciuszko By UTMB 100K will take place on 2026-11-06 at Thredbo\, New South Wales. With a distance of around 100 km\, it offers an appealing option for participants looking for a fresh challenge as well as those who want to enjoy the event atmosphere. A great opportunity to add a new goal to the calendar and enjoy an active day in a memorable setting.
LOCATION:Thredbo\, New South Wales
URL:https://sportplan.vercel.app/it/events/ultra-trail-kosciuszko-by-utmb-100k-thredbo-2026-11-06
END:VEVENT
END:VCALENDAR
