BEGIN:VCALENDAR
VERSION:2.0
PRODID:-//SportPlan//Event Calendar//EN
CALSCALE:GREGORIAN
BEGIN:VEVENT
UID:3367e6c7-1aec-468e-93e3-29e1b2cd6f92@sportplan.local
DTSTAMP:20260420T211558Z
DTSTART;VALUE=DATE:20260828
DTEND;VALUE=DATE:20260831
SUMMARY:Ultra Trail du Mont Blanc UTMB 171K 2026
DESCRIPTION:Ultra Trail du Mont Blanc UTMB 171K 2026 aura lieu le 28 août 2026 à Chamonix\, Haute-Savoie. C'est un rendez-vous idéal pour les participants à la recherche d'un défi bien organisé en FR\, avec une ambiance motivante du début à la fin. Avec une distance d'environ 171 km\, l'événement propose une expérience sportive attractive pour les habitués comme pour ceux qui veulent se fixer un nouvel objectif.
LOCATION:Chamonix\, Haute-Savoie
URL:https://sportplan.vercel.app/it/events/ultra-trail-du-mont-blanc-utmb-171k-2026-chamonix-2026-08-28
END:VEVENT
END:VCALENDAR
