BEGIN:VCALENDAR
VERSION:2.0
PRODID:-//SportPlan//Event Calendar//EN
CALSCALE:GREGORIAN
BEGIN:VEVENT
UID:c39e6946-4243-4d37-89d8-851580fa09e0@sportplan.local
DTSTAMP:20260420T183106Z
DTSTART;VALUE=DATE:20260515
DTEND;VALUE=DATE:20260517
SUMMARY:Ultra-Trail Australia 100K By UTMB
DESCRIPTION:
LOCATION:Katoomba\, New South Wales
URL:https://sportplan.vercel.app/it/events/ultra-trail-australia-100k-by-utmb-katoomba-2026-05-15
END:VEVENT
END:VCALENDAR
