BEGIN:VCALENDAR
VERSION:2.0
PRODID:-//SportPlan//Event Calendar//EN
CALSCALE:GREGORIAN
BEGIN:VEVENT
UID:56aca4a0-3f16-4efb-b9d7-66f881a9bdd1@sportplan.local
DTSTAMP:20260420T195228Z
DTSTART;VALUE=DATE:20261004
DTEND;VALUE=DATE:20261011
SUMMARY:Ultra Trail Atacama Crossing 250K 2026
DESCRIPTION:Ultra Trail Atacama Crossing 250K 2026 se celebrará en San Pedro de Atacama\, Antofagasta el 4 octubre 2026. Es una cita ideal para quienes buscan una experiencia deportiva bien organizada y un recorrido de 250 km. Perfecto tanto para participantes que quieren rendir al máximo como para quienes desean disfrutar del ambiente del evento.
LOCATION:San Pedro de Atacama\, Antofagasta
URL:https://sportplan.vercel.app/it/events/ultra-trail-atacama-crossing-250k-2026-san-pedro-de-atacama-2026-10-04
END:VEVENT
END:VCALENDAR
