BEGIN:VCALENDAR
VERSION:2.0
PRODID:-//SportPlan//Event Calendar//EN
CALSCALE:GREGORIAN
BEGIN:VEVENT
UID:416ddda9-b780-4d1a-9ed1-5a09b8eb6eff@sportplan.local
DTSTAMP:20260420T224640Z
DTSTART;VALUE=DATE:20260904
DTEND;VALUE=DATE:20260905
SUMMARY:Ultra Event Italy
DESCRIPTION:Ultra Event Italy si terrà il 4 de settembre de 2026 a Desenzano del Garda. È un appuntamento ideale per partecipanti e accompagnatori che cercano un'atmosfera sportiva e ben organizzata. La distanza del percorso sarà confermata dagli organizzatori.
LOCATION:Desenzano del Garda
URL:https://sportplan.vercel.app/it/events/ultra-event-italy-desenzano-del-garda-2026-09-04
END:VEVENT
END:VCALENDAR
