BEGIN:VCALENDAR
VERSION:2.0
PRODID:-//SportPlan//Event Calendar//EN
CALSCALE:GREGORIAN
BEGIN:VEVENT
UID:29d38fe6-0e11-40d0-b023-2f83b9f0271e@sportplan.local
DTSTAMP:20260420T200454Z
DTSTART;VALUE=DATE:20260928
DTEND;VALUE=DATE:20260929
SUMMARY:Ultra Artesanos
DESCRIPTION:Ultra Artesanos se celebra en Torrejoncillo\, Cáceres\, Extremadura el 28 de septiembre de 2026\, ofreciendo a los corredores una ocasión ideal para disfrutar de un ambiente competitivo y bien organizado en ES. La distancia anunciada es de 43.8 km\, una propuesta atractiva para corredores que buscan un reto claro y una jornada especial. Es una prueba pensada para vivir una jornada deportiva motivadora\, tanto para atletas experimentados como para participantes entusiastas.
LOCATION:Torrejoncillo\, Cáceres\, Extremadura
URL:https://sportplan.vercel.app/it/events/ultra-artesanos-torrejoncillo-2026-09-28-43-8k
END:VEVENT
END:VCALENDAR
