BEGIN:VCALENDAR
VERSION:2.0
PRODID:-//SportPlan//Event Calendar//EN
CALSCALE:GREGORIAN
BEGIN:VEVENT
UID:1911f281-a0dd-465e-ac97-b950be2aef44@sportplan.local
DTSTAMP:20260420T194646Z
DTSTART;VALUE=DATE:20260426
DTEND;VALUE=DATE:20260427
SUMMARY:TUI Rhodes Marathon & Half
DESCRIPTION:Official TUI Rhodes Marathon site for the annual Rhodes road-running festival\, covering the marathon and half marathon weekend information for amateur participants.
LOCATION:Greece
URL:https://sportplan.vercel.app/it/events/tui-rhodes-marathon-half-2026-04-26
END:VEVENT
END:VCALENDAR
