BEGIN:VCALENDAR
VERSION:2.0
PRODID:-//SportPlan//Event Calendar//EN
CALSCALE:GREGORIAN
BEGIN:VEVENT
UID:7e70e80a-e747-40ca-bbf7-305862ad2eac@sportplan.local
DTSTAMP:20260420T194800Z
DTSTART;VALUE=DATE:20270228
DTEND;VALUE=DATE:20270301
SUMMARY:TUI Cyprus Marathon 2027
DESCRIPTION:TUI Cyprus Marathon 2027 is an official amateur road running event in Paphos\, Cyprus on 28 February 2027. The official organizer site lists the TUI Cyprus Marathon weekend on 27 and 28 February 2027\, with the marathon route running through the Paphos region and event schedule centered on Pafos Castle and Aphrodite’s Rock\, alongside open marathon\, half marathon\, 10 km\, and 5 km participation formats.
LOCATION:Paphos Castle\, Paphos\, Cyprus
URL:https://sportplan.vercel.app/it/events/tui-cyprus-marathon-2027-paphos-2027-02-28
END:VEVENT
END:VCALENDAR
