BEGIN:VCALENDAR
VERSION:2.0
PRODID:-//SportPlan//Event Calendar//EN
CALSCALE:GREGORIAN
BEGIN:VEVENT
UID:5a2d5432-8ba0-4c1a-a09e-aa57043d5814@sportplan.local
DTSTAMP:20260420T211357Z
DTSTART;VALUE=DATE:20260613
DTEND;VALUE=DATE:20260614
SUMMARY:Triatlo Longo de Coimbra
DESCRIPTION:Official Federação de Triatlo de Portugal event page for the 2026 Triatlo Longo de Coimbra.
LOCATION:Coimbra\, Portugal
URL:https://sportplan.vercel.app/it/events/triatlo-longo-de-coimbra-coimbra-2026-06-13
END:VEVENT
END:VCALENDAR
