BEGIN:VCALENDAR
VERSION:2.0
PRODID:-//SportPlan//Event Calendar//EN
CALSCALE:GREGORIAN
BEGIN:VEVENT
UID:7015b10a-fbfb-436b-bd37-a08e2b1dcfc5@sportplan.local
DTSTAMP:20260420T181750Z
DTSTART;VALUE=DATE:20260501
DTEND;VALUE=DATE:20260502
SUMMARY:Triathlon Lior Rishon LeZion 2026
DESCRIPTION:Official Israel Triathlon Federation competition page for Triathlon Lior Rishon LeZion 2026. The federation states the amateur event will take place on Friday 1 May 2026 in Rishon LeZion and includes entrant-facing race instructions\, categories\, and logistics.
LOCATION:Rishon LeZion\, Israel
URL:https://sportplan.vercel.app/it/events/triathlon-lior-rishon-lezion-2026-rishon-lezion-2026-05-01
END:VEVENT
END:VCALENDAR
