BEGIN:VCALENDAR
VERSION:2.0
PRODID:-//SportPlan//Event Calendar//EN
CALSCALE:GREGORIAN
BEGIN:VEVENT
UID:a46248f2-8d70-4077-9912-07da05dc141d@sportplan.local
DTSTAMP:20260421T000148Z
DTSTART;VALUE=DATE:20260530
DTEND;VALUE=DATE:20260531
SUMMARY:Triathlon de la Combe de Savoie
DESCRIPTION:Triathlon de la Combe de Savoie est une épreuve prévue le 2026-05-30 à Grésy-sur-Isère. C'est un bon choix pour les participants qui recherchent un rendez-vous sportif bien organisé\, avec un parcours de 87 km. L'événement convient aussi bien aux habitués qu'aux personnes qui veulent découvrir une nouvelle course.
LOCATION:Grésy-sur-Isère
URL:https://sportplan.vercel.app/it/events/triathlon-de-la-combe-de-savoie-gresy-sur-isere-2026-05-30
END:VEVENT
END:VCALENDAR
