BEGIN:VCALENDAR
VERSION:2.0
PRODID:-//SportPlan//Event Calendar//EN
CALSCALE:GREGORIAN
BEGIN:VEVENT
UID:fbfe28b9-f7d0-4636-8283-934e6848449d@sportplan.local
DTSTAMP:20260420T181828Z
DTSTART;VALUE=DATE:20260516
DTEND;VALUE=DATE:20260517
SUMMARY:Transvulcania la Palma
DESCRIPTION:Transvulcania la Palma se celebra el 16 de mayo de 2026 en La Palma. La prueba recorre 74 km. Ideal para participantes que quieren disfrutar del recorrido\, el ambiente del evento y una jornada activa.
LOCATION:La Palma
URL:https://sportplan.vercel.app/it/events/transvulcania-la-palma-los-llanos-de-aridane-2026-05-16
END:VEVENT
END:VCALENDAR
